BEGIN:VCALENDAR
VERSION:2.0
PRODID:-//Nestedbaby.com - ECPv6.15.20//NONSGML v1.0//EN
CALSCALE:GREGORIAN
METHOD:PUBLISH
X-ORIGINAL-URL:https://nestedbaby.com
X-WR-CALDESC:Events for Nestedbaby.com
REFRESH-INTERVAL;VALUE=DURATION:PT1H
X-Robots-Tag:noindex
X-PUBLISHED-TTL:PT1H
BEGIN:VTIMEZONE
TZID:America/New_York
BEGIN:DAYLIGHT
TZOFFSETFROM:-0500
TZOFFSETTO:-0400
TZNAME:EDT
DTSTART:20250309T070000
END:DAYLIGHT
BEGIN:STANDARD
TZOFFSETFROM:-0400
TZOFFSETTO:-0500
TZNAME:EST
DTSTART:20251102T060000
END:STANDARD
BEGIN:DAYLIGHT
TZOFFSETFROM:-0500
TZOFFSETTO:-0400
TZNAME:EDT
DTSTART:20260308T070000
END:DAYLIGHT
BEGIN:STANDARD
TZOFFSETFROM:-0400
TZOFFSETTO:-0500
TZNAME:EST
DTSTART:20261101T060000
END:STANDARD
BEGIN:DAYLIGHT
TZOFFSETFROM:-0500
TZOFFSETTO:-0400
TZNAME:EDT
DTSTART:20270314T070000
END:DAYLIGHT
BEGIN:STANDARD
TZOFFSETFROM:-0400
TZOFFSETTO:-0500
TZNAME:EST
DTSTART:20271107T060000
END:STANDARD
END:VTIMEZONE
BEGIN:VEVENT
DTSTART;TZID=America/New_York:20260517T130000
DTEND;TZID=America/New_York:20260517T150000
DTSTAMP:20260421T063000
CREATED:20260313T162219Z
LAST-MODIFIED:20260313T162219Z
UID:224012-1779022800-1779030000@nestedbaby.com
SUMMARY:Childbirth Education Boot Camp @ Fairfax\, VA 5/17/26
DESCRIPTION:Nested’s Childbirth Education Boot Camp is a comprehensive class that will prepare you for your journey through labor\, delivery\, and the postpartum period! In this class we will: \n\nReview common third trimester issues and what to expect at your 36-week visit\nLearn about the signs of labor\, when to call your obstetrician\, and what should be on your hospital bag packing list\nDiscuss each stage of labor and what can help alleviate and relax the mom\, including options for pain management and potential interventions during the labor process\nSee what the hospital process will look like and what to expect from your healthcare team\nDiscuss the “typical” childbirth scenario as well as how to prepare for the unexpected\, including inductions\, assisted vaginal births and c-sections.\nLearn and practice tips\, tricks and techniques for Prenatal Wellness: Pelvic Floor Health\, Ergonomics & Exercises from a physical therapist\n\nAt Nested we know the importance of optimizing the physical and mental health of both parents during pregnancy and the postpartum period. With coping strategies\, empowerment\, education on diet and exercise and community resources\, parents will leave feeling prepared for the doctor’s office\, the delivery room and the trip back home. \nWhen you enroll\, you get immediate access to the Nested Childbirth Education Bootcamp video – yours to watch as many times as you’d like for up to 6 months. Use it to prepare before class\, and revisit it whenever you need a refresher after. When we meet in person\, we’ll focus our time together on comfort measures\, movement\, and ergonomics. \nTo REGISTER for the class\, refer below to the Tickets section\, select 1 ticket\, and click “Get Tickets”. Note: 1 ticket allows for 2 people to attend the class.
URL:https://nestedbaby.com/event/childbirth-education-boot-camp-fairfax-va-5-17-26/
LOCATION:Fairfax\, 3925 Chain Bridge road\, Suite 101\, Fairfax\, VA\, 22030\, United States
CATEGORIES:Childbirth Education Boot Camp
ATTACH;FMTTYPE=image/png:https://nestedbaby.com/wp-content/uploads/2017/12/logo-e1487846918623.png
ORGANIZER;CN="Nested Baby":MAILTO:info@nestedbaby.com
END:VEVENT
BEGIN:VEVENT
DTSTART;TZID=America/New_York:20260628T130000
DTEND;TZID=America/New_York:20260628T150000
DTSTAMP:20260421T063000
CREATED:20260313T170838Z
LAST-MODIFIED:20260313T171845Z
UID:224019-1782651600-1782658800@nestedbaby.com
SUMMARY:Childbirth Education Boot Camp @ Fairfax\, VA 6/28/26
DESCRIPTION:Nested’s Childbirth Education Boot Camp is a comprehensive class that will prepare you for your journey through labor\, delivery\, and the postpartum period! In this class we will: \n\nReview common third trimester issues and what to expect at your 36-week visit\nLearn about the signs of labor\, when to call your obstetrician\, and what should be on your hospital bag packing list\nDiscuss each stage of labor and what can help alleviate and relax the mom\, including options for pain management and potential interventions during the labor process\nSee what the hospital process will look like and what to expect from your healthcare team\nDiscuss the “typical” childbirth scenario as well as how to prepare for the unexpected\, including inductions\, assisted vaginal births and c-sections.\nLearn and practice tips\, tricks and techniques for Prenatal Wellness: Pelvic Floor Health\, Ergonomics & Exercises from a physical therapist\n\nAt Nested we know the importance of optimizing the physical and mental health of both parents during pregnancy and the postpartum period. With coping strategies\, empowerment\, education on diet and exercise and community resources\, parents will leave feeling prepared for the doctor’s office\, the delivery room and the trip back home. \nWhen you enroll\, you get immediate access to the Nested Childbirth Education Bootcamp video – yours to watch as many times as you’d like for up to 6 months. Use it to prepare before class\, and revisit it whenever you need a refresher after. When we meet in person\, we’ll focus our time together on comfort measures\, movement\, and ergonomics. \nTo REGISTER for the class\, refer below to the Tickets section\, select 1 ticket\, and click “Get Tickets”. Note: 1 ticket allows for 2 people to attend the class.
URL:https://nestedbaby.com/event/childbirth-education-boot-camp-fairfax-va-6-28-26/
LOCATION:Fairfax\, 3925 Chain Bridge road\, Suite 101\, Fairfax\, VA\, 22030\, United States
CATEGORIES:Childbirth Education Boot Camp
ATTACH;FMTTYPE=image/png:https://nestedbaby.com/wp-content/uploads/2017/12/logo-e1487846918623.png
ORGANIZER;CN="Nested Baby":MAILTO:info@nestedbaby.com
END:VEVENT
BEGIN:VEVENT
DTSTART;TZID=America/New_York:20260719T130000
DTEND;TZID=America/New_York:20260719T150000
DTSTAMP:20260421T063000
CREATED:20260313T172555Z
LAST-MODIFIED:20260313T172648Z
UID:224026-1784466000-1784473200@nestedbaby.com
SUMMARY:Childbirth Education Boot Camp @ Fairfax\, VA 7/19/26
DESCRIPTION:Nested’s Childbirth Education Boot Camp is a comprehensive class that will prepare you for your journey through labor\, delivery\, and the postpartum period! In this class we will: \n\nReview common third trimester issues and what to expect at your 36-week visit\nLearn about the signs of labor\, when to call your obstetrician\, and what should be on your hospital bag packing list\nDiscuss each stage of labor and what can help alleviate and relax the mom\, including options for pain management and potential interventions during the labor process\nSee what the hospital process will look like and what to expect from your healthcare team\nDiscuss the “typical” childbirth scenario as well as how to prepare for the unexpected\, including inductions\, assisted vaginal births and c-sections.\nLearn and practice tips\, tricks and techniques for Prenatal Wellness: Pelvic Floor Health\, Ergonomics & Exercises from a physical therapist\n\nAt Nested we know the importance of optimizing the physical and mental health of both parents during pregnancy and the postpartum period. With coping strategies\, empowerment\, education on diet and exercise and community resources\, parents will leave feeling prepared for the doctor’s office\, the delivery room and the trip back home. \nWhen you enroll\, you get immediate access to the Nested Childbirth Education Bootcamp video – yours to watch as many times as you’d like for up to 6 months. Use it to prepare before class\, and revisit it whenever you need a refresher after. When we meet in person\, we’ll focus our time together on comfort measures\, movement\, and ergonomics. \nTo REGISTER for the class\, refer below to the Tickets section\, select 1 ticket\, and click “Get Tickets”. Note: 1 ticket allows for 2 people to attend the class.
URL:https://nestedbaby.com/event/childbirth-education-boot-camp-fairfax-va-7-19-26/
LOCATION:Fairfax\, 3925 Chain Bridge road\, Suite 101\, Fairfax\, VA\, 22030\, United States
CATEGORIES:Childbirth Education Boot Camp
ATTACH;FMTTYPE=image/png:https://nestedbaby.com/wp-content/uploads/2017/12/logo-e1487846918623.png
ORGANIZER;CN="Nested Baby":MAILTO:info@nestedbaby.com
END:VEVENT
BEGIN:VEVENT
DTSTART;TZID=America/New_York:20260823T130000
DTEND;TZID=America/New_York:20260823T150000
DTSTAMP:20260421T063000
CREATED:20260316T164954Z
LAST-MODIFIED:20260316T165032Z
UID:224035-1787490000-1787497200@nestedbaby.com
SUMMARY:Childbirth Education Boot Camp @ Fairfax\, VA 8/23/26
DESCRIPTION:Nested’s Childbirth Education Boot Camp is a comprehensive class that will prepare you for your journey through labor\, delivery\, and the postpartum period! In this class we will: \n\nReview common third trimester issues and what to expect at your 36-week visit\nLearn about the signs of labor\, when to call your obstetrician\, and what should be on your hospital bag packing list\nDiscuss each stage of labor and what can help alleviate and relax the mom\, including options for pain management and potential interventions during the labor process\nSee what the hospital process will look like and what to expect from your healthcare team\nDiscuss the “typical” childbirth scenario as well as how to prepare for the unexpected\, including inductions\, assisted vaginal births and c-sections.\nLearn and practice tips\, tricks and techniques for Prenatal Wellness: Pelvic Floor Health\, Ergonomics & Exercises from a physical therapist\n\nAt Nested we know the importance of optimizing the physical and mental health of both parents during pregnancy and the postpartum period. With coping strategies\, empowerment\, education on diet and exercise and community resources\, parents will leave feeling prepared for the doctor’s office\, the delivery room and the trip back home. \nWhen you enroll\, you get immediate access to the Nested Childbirth Education Bootcamp video – yours to watch as many times as you’d like for up to 6 months. Use it to prepare before class\, and revisit it whenever you need a refresher after. When we meet in person\, we’ll focus our time together on comfort measures\, movement\, and ergonomics. \nTo REGISTER for the class\, refer below to the Tickets section\, select 1 ticket\, and click “Get Tickets”. Note: 1 ticket allows for 2 people to attend the class.
URL:https://nestedbaby.com/event/childbirth-education-boot-camp-fairfax-va-8-23-26/
LOCATION:Fairfax\, 3925 Chain Bridge road\, Suite 101\, Fairfax\, VA\, 22030\, United States
CATEGORIES:Childbirth Education Boot Camp
ATTACH;FMTTYPE=image/png:https://nestedbaby.com/wp-content/uploads/2017/12/logo-e1487846918623.png
ORGANIZER;CN="Nested Baby":MAILTO:info@nestedbaby.com
END:VEVENT
BEGIN:VEVENT
DTSTART;TZID=America/New_York:20260927T130000
DTEND;TZID=America/New_York:20260927T150000
DTSTAMP:20260421T063000
CREATED:20260316T165531Z
LAST-MODIFIED:20260316T165640Z
UID:224040-1790514000-1790521200@nestedbaby.com
SUMMARY:Childbirth Education Boot Camp @ Fairfax\, VA 9/27/26
DESCRIPTION:Nested’s Childbirth Education Boot Camp is a comprehensive class that will prepare you for your journey through labor\, delivery\, and the postpartum period! In this class we will: \n\nReview common third trimester issues and what to expect at your 36-week visit\nLearn about the signs of labor\, when to call your obstetrician\, and what should be on your hospital bag packing list\nDiscuss each stage of labor and what can help alleviate and relax the mom\, including options for pain management and potential interventions during the labor process\nSee what the hospital process will look like and what to expect from your healthcare team\nDiscuss the “typical” childbirth scenario as well as how to prepare for the unexpected\, including inductions\, assisted vaginal births and c-sections.\nLearn and practice tips\, tricks and techniques for Prenatal Wellness: Pelvic Floor Health\, Ergonomics & Exercises from a physical therapist\n\nAt Nested we know the importance of optimizing the physical and mental health of both parents during pregnancy and the postpartum period. With coping strategies\, empowerment\, education on diet and exercise and community resources\, parents will leave feeling prepared for the doctor’s office\, the delivery room and the trip back home. \nWhen you enroll\, you get immediate access to the Nested Childbirth Education Bootcamp video – yours to watch as many times as you’d like for up to 6 months. Use it to prepare before class\, and revisit it whenever you need a refresher after. When we meet in person\, we’ll focus our time together on comfort measures\, movement\, and ergonomics. \nTo REGISTER for the class\, refer below to the Tickets section\, select 1 ticket\, and click “Get Tickets”. Note: 1 ticket allows for 2 people to attend the class.
URL:https://nestedbaby.com/event/childbirth-education-boot-camp-fairfax-va-9-27-26/
LOCATION:Fairfax\, 3925 Chain Bridge road\, Suite 101\, Fairfax\, VA\, 22030\, United States
CATEGORIES:Childbirth Education Boot Camp
ATTACH;FMTTYPE=image/png:https://nestedbaby.com/wp-content/uploads/2017/12/logo-e1487846918623.png
ORGANIZER;CN="Nested Baby":MAILTO:info@nestedbaby.com
END:VEVENT
BEGIN:VEVENT
DTSTART;TZID=America/New_York:20261025T130000
DTEND;TZID=America/New_York:20261025T150000
DTSTAMP:20260421T063000
CREATED:20260316T170432Z
LAST-MODIFIED:20260316T170514Z
UID:224045-1792933200-1792940400@nestedbaby.com
SUMMARY:Childbirth Education Boot Camp @ Fairfax\, VA 10/25/26
DESCRIPTION:Nested’s Childbirth Education Boot Camp is a comprehensive class that will prepare you for your journey through labor\, delivery\, and the postpartum period! In this class we will: \n\nReview common third trimester issues and what to expect at your 36-week visit\nLearn about the signs of labor\, when to call your obstetrician\, and what should be on your hospital bag packing list\nDiscuss each stage of labor and what can help alleviate and relax the mom\, including options for pain management and potential interventions during the labor process\nSee what the hospital process will look like and what to expect from your healthcare team\nDiscuss the “typical” childbirth scenario as well as how to prepare for the unexpected\, including inductions\, assisted vaginal births and c-sections.\nLearn and practice tips\, tricks and techniques for Prenatal Wellness: Pelvic Floor Health\, Ergonomics & Exercises from a physical therapist\n\nAt Nested we know the importance of optimizing the physical and mental health of both parents during pregnancy and the postpartum period. With coping strategies\, empowerment\, education on diet and exercise and community resources\, parents will leave feeling prepared for the doctor’s office\, the delivery room and the trip back home. \nWhen you enroll\, you get immediate access to the Nested Childbirth Education Bootcamp video – yours to watch as many times as you’d like for up to 6 months. Use it to prepare before class\, and revisit it whenever you need a refresher after. When we meet in person\, we’ll focus our time together on comfort measures\, movement\, and ergonomics. \nTo REGISTER for the class\, refer below to the Tickets section\, select 1 ticket\, and click “Get Tickets”. Note: 1 ticket allows for 2 people to attend the class.
URL:https://nestedbaby.com/event/childbirth-education-boot-camp-fairfax-va-10-25-26/
LOCATION:Fairfax\, 3925 Chain Bridge road\, Suite 101\, Fairfax\, VA\, 22030\, United States
CATEGORIES:Childbirth Education Boot Camp
ATTACH;FMTTYPE=image/png:https://nestedbaby.com/wp-content/uploads/2017/12/logo-e1487846918623.png
ORGANIZER;CN="Nested Baby":MAILTO:info@nestedbaby.com
END:VEVENT
BEGIN:VEVENT
DTSTART;TZID=America/New_York:20261115T130000
DTEND;TZID=America/New_York:20261115T150000
DTSTAMP:20260421T063000
CREATED:20260316T171624Z
LAST-MODIFIED:20260316T171647Z
UID:224051-1794747600-1794754800@nestedbaby.com
SUMMARY:Childbirth Education Boot Camp @ Fairfax\, VA 11/15/26
DESCRIPTION:Nested’s Childbirth Education Boot Camp is a comprehensive class that will prepare you for your journey through labor\, delivery\, and the postpartum period! In this class we will: \n\nReview common third trimester issues and what to expect at your 36-week visit\nLearn about the signs of labor\, when to call your obstetrician\, and what should be on your hospital bag packing list\nDiscuss each stage of labor and what can help alleviate and relax the mom\, including options for pain management and potential interventions during the labor process\nSee what the hospital process will look like and what to expect from your healthcare team\nDiscuss the “typical” childbirth scenario as well as how to prepare for the unexpected\, including inductions\, assisted vaginal births and c-sections.\nLearn and practice tips\, tricks and techniques for Prenatal Wellness: Pelvic Floor Health\, Ergonomics & Exercises from a physical therapist\n\nAt Nested we know the importance of optimizing the physical and mental health of both parents during pregnancy and the postpartum period. With coping strategies\, empowerment\, education on diet and exercise and community resources\, parents will leave feeling prepared for the doctor’s office\, the delivery room and the trip back home. \nWhen you enroll\, you get immediate access to the Nested Childbirth Education Bootcamp video – yours to watch as many times as you’d like for up to 6 months. Use it to prepare before class\, and revisit it whenever you need a refresher after. When we meet in person\, we’ll focus our time together on comfort measures\, movement\, and ergonomics. \nTo REGISTER for the class\, refer below to the Tickets section\, select 1 ticket\, and click “Get Tickets”. Note: 1 ticket allows for 2 people to attend the class.
URL:https://nestedbaby.com/event/childbirth-education-boot-camp-fairfax-va-11-15-26/
LOCATION:Fairfax\, 3925 Chain Bridge road\, Suite 101\, Fairfax\, VA\, 22030\, United States
CATEGORIES:Childbirth Education Boot Camp
ATTACH;FMTTYPE=image/png:https://nestedbaby.com/wp-content/uploads/2017/12/logo-e1487846918623.png
ORGANIZER;CN="Nested Baby":MAILTO:info@nestedbaby.com
END:VEVENT
BEGIN:VEVENT
DTSTART;TZID=America/New_York:20261220T130000
DTEND;TZID=America/New_York:20261220T150000
DTSTAMP:20260421T063000
CREATED:20260316T175022Z
LAST-MODIFIED:20260316T175245Z
UID:224056-1797771600-1797778800@nestedbaby.com
SUMMARY:Childbirth Education Boot Camp @ Fairfax\, VA 12/20/26
DESCRIPTION:Nested’s Childbirth Education Boot Camp is a comprehensive class that will prepare you for your journey through labor\, delivery\, and the postpartum period! In this class we will: \n\nReview common third trimester issues and what to expect at your 36-week visit\nLearn about the signs of labor\, when to call your obstetrician\, and what should be on your hospital bag packing list\nDiscuss each stage of labor and what can help alleviate and relax the mom\, including options for pain management and potential interventions during the labor process\nSee what the hospital process will look like and what to expect from your healthcare team\nDiscuss the “typical” childbirth scenario as well as how to prepare for the unexpected\, including inductions\, assisted vaginal births and c-sections.\nLearn and practice tips\, tricks and techniques for Prenatal Wellness: Pelvic Floor Health\, Ergonomics & Exercises from a physical therapist\n\nAt Nested we know the importance of optimizing the physical and mental health of both parents during pregnancy and the postpartum period. With coping strategies\, empowerment\, education on diet and exercise and community resources\, parents will leave feeling prepared for the doctor’s office\, the delivery room and the trip back home. \nWhen you enroll\, you get immediate access to the Nested Childbirth Education Bootcamp video – yours to watch as many times as you’d like for up to 6 months. Use it to prepare before class\, and revisit it whenever you need a refresher after. When we meet in person\, we’ll focus our time together on comfort measures\, movement\, and ergonomics. \nTo REGISTER for the class\, refer below to the Tickets section\, select 1 ticket\, and click “Get Tickets”. Note: 1 ticket allows for 2 people to attend the class.
URL:https://nestedbaby.com/event/childbirth-education-boot-camp-fairfax-va-12-20-26/
LOCATION:Fairfax\, 3925 Chain Bridge road\, Suite 101\, Fairfax\, VA\, 22030\, United States
CATEGORIES:Childbirth Education Boot Camp
ATTACH;FMTTYPE=image/png:https://nestedbaby.com/wp-content/uploads/2017/12/logo-e1487846918623.png
ORGANIZER;CN="Nested Baby":MAILTO:info@nestedbaby.com
END:VEVENT
END:VCALENDAR